BEGIN:VCALENDAR
VERSION:2.0
PRODID:-//hacksw/handcal//NONSGML v1.0//EN
BEGIN:VEVENT
SUMMARY:Challenge des Hwarangs - 2026
UID:19b85124-d689-4f5a-824c-053d7444b851
DTSTART:20260508T220000Z
DTEND:20260510T220000Z
LOCATION:Localisation Palais des sports 91100 Corbeil
CATEGORIES:Manifestation
STATUS:
DESCRIPTION:<p><strong>PROGRAMME DE LA COMPETITION</strong></p>
 
 <p
 style="text-align:center;"><strong>Categories pour la saison
 2025-2026</strong><br>
 <strong>BABIES</strong> 2021 – 2022 /
 <strong>PUPILLES</strong> 2020 – 2019 / <strong>BENJAMINS</strong>
 2018 – 2017 / <strong>MINIMES</strong> 2016 –
 2015<br>
 <strong>CADETS</strong> 2014 – 2012 /<strong>
 JUNIORS</strong> 2011 – 2009 / <strong>SENIORS</strong> 2008 –
 1997 / <strong>MASTERS</strong> 1996 et avant</p>
 
 <table
 align="center" border="0" cellpadding="1"
 cellspacing="1">
 	<tbody>
 		<tr>
 			<td
 style="text-align:center;"><strong>SAMEDI 9 MAI
 2026</strong><br>
 			Cadets / Juniors / Seniors / Masters</td>
 			<td
 style="text-align:center;"><strong>DIMANCHE 10 MAI
 2026</strong><br>
 			Babies / Pupilles / Benjamins /
 Minimes</td>
 		</tr>
 		<tr>
 			<td
 style="text-align:center;"><strong>Horaires</strong><br>
 			<strong>9h00</strong>
 : Briefing des juges<br>
 			<strong>9h45</strong> : Information aux
 competiteurs SENIORS/MASTERS<br>
 			<strong>10h00</strong> : Debut de
 la competition EN INDIVIDUEL SENIORS et
 MASTERS<br>
 			<strong>13h30</strong> : Information aux Equipes de
 competiteurs<br>
 			<strong>13h45</strong> : Debut de la competition
 EN EQUIPE<br>
 			<strong>15h15 </strong>: Information aux
 competiteurs JUNIORS et CADETS<br>
 			<strong>15h30</strong> : Debut
 de la competition EN INDIVIDUEL JUNIORS et CADETS</td>
 			<td
 style="text-align:center;"><strong>Horaires<br>
 			8h00</strong> :
 Briefing des juges<br>
 			<strong>8h45</strong> : Information aux
 competiteurs BABIES / PUPILLES<br>
 			<strong>9h00</strong> : Debut
 de la competition BABIES / PUPILLES<br>
 			<strong>14h00</strong> :
 Information aux competiteurs BENJAMINS /
 MINIMES<br>
 			<strong>14h15</strong> : Debut de la competition
 BENJAMINS / MINIMES</td>
 		</tr>
 		<tr>
 			<td>
 			<p
 style="text-align:center;"><strong>Epreuves Competition
 individuelle</strong><br>
 			- Epreuve de Puissance Coup de
 Pied<br>
 			- Epreuve de Vitesse<br>
 			- Epreuve de
 Dexterite<br>
 			- Parcours du combattant<br>
 			- Casse</p>
 
 			<p
 style="text-align:center;"><strong>Epreuves Competition en
 equipe</strong><br>
 			- Epreuve de Puissance Coup de pied<br>
 			-
 Epreuve de Vitesse<br>
 			- Epreuve de Resistance<br>
 			- Parcours
 du combattant<br>
 			- Demonstration
 Hanbon/Hoshinsul</p>
 			</td>
 			<td
 style="text-align:center;"><strong>Epreuves</strong><br>
 			-
 Assauts<br>
 			- Epreuve de Puissance Coup de pied<br>
 			- Epreuve
 de Vitesse<br>
 			- Epreuve de Dexterite<br>
 			- Parcours du
 combattant</td>
 		</tr>
 	</tbody>
 </table>
URL;VALUE=URI:https://www.mennecy-amc.fr/evenements/2026/05/09/challenge-des-hwarangs-2026-2442785
END:VEVENT
END:VCALENDAR
